BEGIN:VCALENDAR
VERSION:2.0
PRODID:-//Henpicked Workplace Memberships - ECPv6.15.20//NONSGML v1.0//EN
CALSCALE:GREGORIAN
METHOD:PUBLISH
X-ORIGINAL-URL:https://membership.henpicked.net
X-WR-CALDESC:Events for Henpicked Workplace Memberships
REFRESH-INTERVAL;VALUE=DURATION:PT1H
X-Robots-Tag:noindex
X-PUBLISHED-TTL:PT1H
BEGIN:VTIMEZONE
TZID:Europe/London
BEGIN:DAYLIGHT
TZOFFSETFROM:+0000
TZOFFSETTO:+0100
TZNAME:BST
DTSTART:20230326T010000
END:DAYLIGHT
BEGIN:STANDARD
TZOFFSETFROM:+0100
TZOFFSETTO:+0000
TZNAME:GMT
DTSTART:20231029T010000
END:STANDARD
BEGIN:DAYLIGHT
TZOFFSETFROM:+0000
TZOFFSETTO:+0100
TZNAME:BST
DTSTART:20240331T010000
END:DAYLIGHT
BEGIN:STANDARD
TZOFFSETFROM:+0100
TZOFFSETTO:+0000
TZNAME:GMT
DTSTART:20241027T010000
END:STANDARD
BEGIN:DAYLIGHT
TZOFFSETFROM:+0000
TZOFFSETTO:+0100
TZNAME:BST
DTSTART:20250330T010000
END:DAYLIGHT
BEGIN:STANDARD
TZOFFSETFROM:+0100
TZOFFSETTO:+0000
TZNAME:GMT
DTSTART:20251026T010000
END:STANDARD
END:VTIMEZONE
BEGIN:VEVENT
DTSTART;TZID=Europe/London:20240925T120000
DTEND;TZID=Europe/London:20240925T123000
DTSTAMP:20260424T021607
CREATED:20240704T214921Z
LAST-MODIFIED:20240704T214921Z
UID:29314-1727265600-1727267400@membership.henpicked.net
SUMMARY:Member: Drop in session
DESCRIPTION:Please login to access this content. \n  \n  \n            \n\n                       \n            \n        \n                              Username or E-mail\n        \n        \n      \n      \n        \n          Password\n          \n            \n            \n              \n            \n          \n        \n      \n            \n         Remember Me\n      \n       \n      \n        \n        \n        \n        \n      \n    \n     \n    \n        \n          Forgot Password
URL:https://membership.henpicked.net/event/member-drop-in-session-33/
LOCATION:Online\, United Kingdom
CATEGORIES:Menopause Friendly Drop-in sessions
ATTACH;FMTTYPE=image/jpeg:https://membership.henpicked.net/wp-content/uploads/2024/01/DropIn_template.jpg
END:VEVENT
BEGIN:VEVENT
DTSTART;TZID=Europe/London:20240828T120000
DTEND;TZID=Europe/London:20240828T123000
DTSTAMP:20260424T021607
CREATED:20240704T214734Z
LAST-MODIFIED:20240704T214734Z
UID:29313-1724846400-1724848200@membership.henpicked.net
SUMMARY:Member: Drop in session
DESCRIPTION:Please login to access this content. \n  \n  \n            \n\n                       \n            \n        \n                              Username or E-mail\n        \n        \n      \n      \n        \n          Password\n          \n            \n            \n              \n            \n          \n        \n      \n            \n         Remember Me\n      \n       \n      \n        \n        \n        \n        \n      \n    \n     \n    \n        \n          Forgot Password
URL:https://membership.henpicked.net/event/member-drop-in-session-32/
LOCATION:Online\, United Kingdom
CATEGORIES:Menopause Friendly Drop-in sessions
ATTACH;FMTTYPE=image/jpeg:https://membership.henpicked.net/wp-content/uploads/2024/01/DropIn_template.jpg
END:VEVENT
BEGIN:VEVENT
DTSTART;TZID=Europe/London:20240731T120000
DTEND;TZID=Europe/London:20240731T123000
DTSTAMP:20260424T021607
CREATED:20240704T214438Z
LAST-MODIFIED:20240704T214438Z
UID:29312-1722427200-1722429000@membership.henpicked.net
SUMMARY:Member: Drop in session
DESCRIPTION:Please login to access this content. \n  \n  \n            \n\n                       \n            \n        \n                              Username or E-mail\n        \n        \n      \n      \n        \n          Password\n          \n            \n            \n              \n            \n          \n        \n      \n            \n         Remember Me\n      \n       \n      \n        \n        \n        \n        \n      \n    \n     \n    \n        \n          Forgot Password
URL:https://membership.henpicked.net/event/member-drop-in-session-31/
LOCATION:Online\, United Kingdom
CATEGORIES:Menopause Friendly Drop-in sessions
ATTACH;FMTTYPE=image/jpeg:https://membership.henpicked.net/wp-content/uploads/2024/01/DropIn_template.jpg
END:VEVENT
BEGIN:VEVENT
DTSTART;TZID=Europe/London:20240529T120000
DTEND;TZID=Europe/London:20240529T123000
DTSTAMP:20260424T021607
CREATED:20240304T230236Z
LAST-MODIFIED:20240304T230236Z
UID:28068-1716984000-1716985800@membership.henpicked.net
SUMMARY:Member: Drop in session
DESCRIPTION:Please login to access this content.
URL:https://membership.henpicked.net/event/member-drop-in-session-5/
LOCATION:Online\, United Kingdom
CATEGORIES:Menopause Friendly Drop-in sessions
ATTACH;FMTTYPE=image/jpeg:https://membership.henpicked.net/wp-content/uploads/2024/01/DropIn_template.jpg
END:VEVENT
BEGIN:VEVENT
DTSTART;TZID=Europe/London:20240423T120000
DTEND;TZID=Europe/London:20240423T123000
DTSTAMP:20260424T021607
CREATED:20240304T225921Z
LAST-MODIFIED:20240304T225921Z
UID:28066-1713873600-1713875400@membership.henpicked.net
SUMMARY:Member: Drop in session
DESCRIPTION:Please login to access this content.
URL:https://membership.henpicked.net/event/member-drop-in-session-4/
LOCATION:Online\, United Kingdom
CATEGORIES:Menopause Friendly Drop-in sessions
ATTACH;FMTTYPE=image/jpeg:https://membership.henpicked.net/wp-content/uploads/2024/01/DropIn_template.jpg
END:VEVENT
BEGIN:VEVENT
DTSTART;TZID=Europe/London:20240327T120000
DTEND;TZID=Europe/London:20240327T130000
DTSTAMP:20260424T021607
CREATED:20240119T235932Z
LAST-MODIFIED:20240229T231833Z
UID:26573-1711540800-1711544400@membership.henpicked.net
SUMMARY:Member: Drop in session
DESCRIPTION:Please login to access this content.
URL:https://membership.henpicked.net/event/member-drop-in-session-3/
CATEGORIES:Menopause Friendly Drop-in sessions
ATTACH;FMTTYPE=image/jpeg:https://membership.henpicked.net/wp-content/uploads/2024/01/DropIn_template.jpg
ORGANIZER;CN="Menopause Friendly Membership":MAILTO:membersupport@henpicked.net
LOCATION:https://teams.microsoft.com/l/meetup-join/19%3ameeting_MTExNjIyZmEtYjgxNC00YTUzLTlkZTEtNGFhZWUxNDU4YzUy%40thread.v2/0?context=%7b%22Tid%22%3a%22aaf41ac9-209c-4031-85b3-d85242d882d2%22%2c%22Oid%22%3a%226ff033c9-05e7-4d3f-ab15-168623466a2a%22%7d
END:VEVENT
BEGIN:VEVENT
DTSTART;TZID=Europe/London:20240229T120000
DTEND;TZID=Europe/London:20240229T130000
DTSTAMP:20260424T021607
CREATED:20240119T235723Z
LAST-MODIFIED:20240220T120359Z
UID:26570-1709208000-1709211600@membership.henpicked.net
SUMMARY:Member: Drop in session
DESCRIPTION:Please login to access this content.
URL:https://membership.henpicked.net/event/member-drop-in-session-2/
LOCATION:Online\, United Kingdom
CATEGORIES:Menopause Friendly Drop-in sessions
ATTACH;FMTTYPE=image/jpeg:https://membership.henpicked.net/wp-content/uploads/2024/01/DropIn_template.jpg
END:VEVENT
BEGIN:VEVENT
DTSTART;TZID=Europe/London:20240130T120000
DTEND;TZID=Europe/London:20240130T130000
DTSTAMP:20260424T021607
CREATED:20240119T235502Z
LAST-MODIFIED:20240119T235502Z
UID:26566-1706616000-1706619600@membership.henpicked.net
SUMMARY:Member: Drop in session
DESCRIPTION:Please login to access this content.
URL:https://membership.henpicked.net/event/member-drop-in-session/
LOCATION:Online\, United Kingdom
CATEGORIES:Menopause Friendly Drop-in sessions
ATTACH;FMTTYPE=image/jpeg:https://membership.henpicked.net/wp-content/uploads/2024/01/DropIn_template.jpg
ORGANIZER;CN="Menopause Friendly Membership":MAILTO:membersupport@henpicked.net
END:VEVENT
END:VCALENDAR