BEGIN:VCALENDAR
VERSION:2.0
PRODID:-//Henpicked Workplace Memberships - ECPv6.15.20//NONSGML v1.0//EN
CALSCALE:GREGORIAN
METHOD:PUBLISH
X-ORIGINAL-URL:https://membership.henpicked.net
X-WR-CALDESC:Events for Henpicked Workplace Memberships
REFRESH-INTERVAL;VALUE=DURATION:PT1H
X-Robots-Tag:noindex
X-PUBLISHED-TTL:PT1H
BEGIN:VTIMEZONE
TZID:Europe/London
BEGIN:DAYLIGHT
TZOFFSETFROM:+0000
TZOFFSETTO:+0100
TZNAME:BST
DTSTART:20250330T010000
END:DAYLIGHT
BEGIN:STANDARD
TZOFFSETFROM:+0100
TZOFFSETTO:+0000
TZNAME:GMT
DTSTART:20251026T010000
END:STANDARD
BEGIN:DAYLIGHT
TZOFFSETFROM:+0000
TZOFFSETTO:+0100
TZNAME:BST
DTSTART:20260329T010000
END:DAYLIGHT
BEGIN:STANDARD
TZOFFSETFROM:+0100
TZOFFSETTO:+0000
TZNAME:GMT
DTSTART:20261025T010000
END:STANDARD
BEGIN:DAYLIGHT
TZOFFSETFROM:+0000
TZOFFSETTO:+0100
TZNAME:BST
DTSTART:20270328T010000
END:DAYLIGHT
BEGIN:STANDARD
TZOFFSETFROM:+0100
TZOFFSETTO:+0000
TZNAME:GMT
DTSTART:20271031T010000
END:STANDARD
END:VTIMEZONE
BEGIN:VEVENT
DTSTART;TZID=Europe/London:20260428T120000
DTEND;TZID=Europe/London:20260428T130000
DTSTAMP:20260421T074130
CREATED:20251203T140606Z
LAST-MODIFIED:20260226T144836Z
UID:36193-1777377600-1777381200@membership.henpicked.net
SUMMARY:THINK TANK: Time for an inclusive conversation
DESCRIPTION:Please login to access this content. \n  \n  \n            \n\n                       \n            \n        \n                              Username or E-mail\n        \n        \n      \n      \n        \n          Password\n          \n            \n            \n              \n            \n          \n        \n      \n            \n         Remember Me\n      \n       \n      \n        \n        \n        \n        \n      \n    \n     \n    \n        \n          Forgot Password
URL:https://membership.henpicked.net/event/think-tank-inclusive-menopause-support-allyship-insight/
LOCATION:Online\, United Kingdom
CATEGORIES:Menopause Friendly Masterclass,Menopause Friendly Think Tank
ATTACH;FMTTYPE=image/png:https://membership.henpicked.net/wp-content/uploads/2025/12/Menopause-and-inclusion.png
ORGANIZER;CN="Menopause Friendly Membership":MAILTO:membersupport@henpicked.net
END:VEVENT
BEGIN:VEVENT
DTSTART;TZID=Europe/London:20260511T120000
DTEND;TZID=Europe/London:20260511T130000
DTSTAMP:20260421T074130
CREATED:20251208T122638Z
LAST-MODIFIED:20260402T135434Z
UID:36228-1778500800-1778504400@membership.henpicked.net
SUMMARY:Masterclass - Menopause\, menstrual health and mental wellbeing
DESCRIPTION:Please login to access this content.
URL:https://membership.henpicked.net/event/think-tank-menstrual-health-and-mental-wellbeing/
LOCATION:Online\, United Kingdom
CATEGORIES:Menopause Friendly Specialist masterclasses,Menopause Friendly Think Tank,Menstruation Friendly Specialist Masterclasses,Menstruation Friendly Think Tank
ATTACH;FMTTYPE=image/png:https://membership.henpicked.net/wp-content/uploads/2025/12/MENOPAUSE-MENSTRUAL-HEALTH-AND-MENTAL-WELLBEING-1.png
END:VEVENT
BEGIN:VEVENT
DTSTART;TZID=Europe/London:20260617T120000
DTEND;TZID=Europe/London:20260617T130000
DTSTAMP:20260421T074130
CREATED:20251203T155522Z
LAST-MODIFIED:20251203T155522Z
UID:36202-1781697600-1781701200@membership.henpicked.net
SUMMARY:Think Tank: Men’s Midlife Health
DESCRIPTION:Please login to access this content.
URL:https://membership.henpicked.net/event/think-tank-mens-midlife-health/
LOCATION:Online\, United Kingdom
CATEGORIES:Menopause Friendly Think Tank
ATTACH;FMTTYPE=image/png:https://membership.henpicked.net/wp-content/uploads/2025/12/Guided-tour-3.png
ORGANIZER;CN="Menopause Friendly Membership":MAILTO:membersupport@henpicked.net
END:VEVENT
BEGIN:VEVENT
DTSTART;TZID=Europe/London:20260825T120000
DTEND;TZID=Europe/London:20260825T130000
DTSTAMP:20260421T074130
CREATED:20251208T184617Z
LAST-MODIFIED:20251208T184617Z
UID:36239-1787659200-1787662800@membership.henpicked.net
SUMMARY:THINK TANK: Preparing for World Menopause Day – Pack Launch
DESCRIPTION:Please login to access this content.
URL:https://membership.henpicked.net/event/think-tank-preparing-for-world-menopause-day-pack-launch/
LOCATION:Online\, United Kingdom
CATEGORIES:Menopause Friendly Think Tank
ATTACH;FMTTYPE=image/png:https://membership.henpicked.net/wp-content/uploads/2025/12/World-Menopause-Day.png
ORGANIZER;CN="Menopause Friendly Membership":MAILTO:membersupport@henpicked.net
END:VEVENT
BEGIN:VEVENT
DTSTART;TZID=Europe/London:20261103T100000
DTEND;TZID=Europe/London:20261103T110000
DTSTAMP:20260421T074130
CREATED:20251208T190519Z
LAST-MODIFIED:20251208T201007Z
UID:36248-1793700000-1793703600@membership.henpicked.net
SUMMARY:THINK TANK: Planning for 2027 – Measuring Success & Building Momentum
DESCRIPTION:Please login to access this content.
URL:https://membership.henpicked.net/event/think-tank-planning-for-2027-measuring-success-building-momentum/
LOCATION:Online\, United Kingdom
CATEGORIES:Menopause Friendly Think Tank
ATTACH;FMTTYPE=image/png:https://membership.henpicked.net/wp-content/uploads/2025/12/Planning-for-2027-1.png
ORGANIZER;CN="Menopause Friendly Membership":MAILTO:membersupport@henpicked.net
END:VEVENT
END:VCALENDAR