BEGIN:VCALENDAR
VERSION:2.0
PRODID:-//Henpicked Workplace Memberships - ECPv6.15.20//NONSGML v1.0//EN
CALSCALE:GREGORIAN
METHOD:PUBLISH
X-ORIGINAL-URL:https://membership.henpicked.net
X-WR-CALDESC:Events for Henpicked Workplace Memberships
REFRESH-INTERVAL;VALUE=DURATION:PT1H
X-Robots-Tag:noindex
X-PUBLISHED-TTL:PT1H
BEGIN:VTIMEZONE
TZID:Europe/London
BEGIN:DAYLIGHT
TZOFFSETFROM:+0000
TZOFFSETTO:+0100
TZNAME:BST
DTSTART:20230326T010000
END:DAYLIGHT
BEGIN:STANDARD
TZOFFSETFROM:+0100
TZOFFSETTO:+0000
TZNAME:GMT
DTSTART:20231029T010000
END:STANDARD
BEGIN:DAYLIGHT
TZOFFSETFROM:+0000
TZOFFSETTO:+0100
TZNAME:BST
DTSTART:20240331T010000
END:DAYLIGHT
BEGIN:STANDARD
TZOFFSETFROM:+0100
TZOFFSETTO:+0000
TZNAME:GMT
DTSTART:20241027T010000
END:STANDARD
BEGIN:DAYLIGHT
TZOFFSETFROM:+0000
TZOFFSETTO:+0100
TZNAME:BST
DTSTART:20250330T010000
END:DAYLIGHT
BEGIN:STANDARD
TZOFFSETFROM:+0100
TZOFFSETTO:+0000
TZNAME:GMT
DTSTART:20251026T010000
END:STANDARD
BEGIN:DAYLIGHT
TZOFFSETFROM:+0000
TZOFFSETTO:+0100
TZNAME:BST
DTSTART:20260329T010000
END:DAYLIGHT
BEGIN:STANDARD
TZOFFSETFROM:+0100
TZOFFSETTO:+0000
TZNAME:GMT
DTSTART:20261025T010000
END:STANDARD
BEGIN:DAYLIGHT
TZOFFSETFROM:+0000
TZOFFSETTO:+0100
TZNAME:BST
DTSTART:20270328T010000
END:DAYLIGHT
BEGIN:STANDARD
TZOFFSETFROM:+0100
TZOFFSETTO:+0000
TZNAME:GMT
DTSTART:20271031T010000
END:STANDARD
END:VTIMEZONE
BEGIN:VEVENT
DTSTART;TZID=Europe/London:20260413T140000
DTEND;TZID=Europe/London:20260413T150000
DTSTAMP:20260421T063956
CREATED:20260218T172840Z
LAST-MODIFIED:20260218T172840Z
UID:37686-1776088800-1776092400@membership.henpicked.net
SUMMARY:Menopause Friendly Membership - Guided Tour
DESCRIPTION:Please login to access this content. \n  \n  \n            \n\n                       \n            \n        \n                              Username or E-mail\n        \n        \n      \n      \n        \n          Password\n          \n            \n            \n              \n            \n          \n        \n      \n            \n         Remember Me\n      \n       \n      \n        \n        \n        \n        \n      \n    \n     \n    \n        \n          Forgot Password
URL:https://membership.henpicked.net/event/menopause-friendly-membership-guided-tour/
LOCATION:Online\, United Kingdom
CATEGORIES:Menopause Friendly Welcome tour
ATTACH;FMTTYPE=image/png:https://membership.henpicked.net/wp-content/uploads/2023/12/Guided-tour.png
ORGANIZER;CN="Menopause Friendly Membership":MAILTO:membersupport@henpicked.net
END:VEVENT
BEGIN:VEVENT
DTSTART;TZID=Europe/London:20260309T120000
DTEND;TZID=Europe/London:20260309T130000
DTSTAMP:20260421T063956
CREATED:20251202T192506Z
LAST-MODIFIED:20251202T192506Z
UID:36181-1773057600-1773061200@membership.henpicked.net
SUMMARY:Menopause Friendly Guided Tour
DESCRIPTION:Please login to access this content.
URL:https://membership.henpicked.net/event/menopause-friendly-guided-tour-26/
LOCATION:Online\, United Kingdom
CATEGORIES:Menopause Friendly Welcome tour
ATTACH;FMTTYPE=image/png:https://membership.henpicked.net/wp-content/uploads/2023/12/Guided-tour.png
ORGANIZER;CN="Menopause Friendly Membership":MAILTO:membersupport@henpicked.net
END:VEVENT
BEGIN:VEVENT
DTSTART;TZID=Europe/London:20260210T120000
DTEND;TZID=Europe/London:20260210T130000
DTSTAMP:20260421T063956
CREATED:20251202T192224Z
LAST-MODIFIED:20251202T192224Z
UID:36179-1770724800-1770728400@membership.henpicked.net
SUMMARY:Menopause Friendly Guided Tour
DESCRIPTION:Please login to access this content.
URL:https://membership.henpicked.net/event/menopause-friendly-guided-tour-25/
LOCATION:Online\, United Kingdom
CATEGORIES:Menopause Friendly Welcome tour
ATTACH;FMTTYPE=image/png:https://membership.henpicked.net/wp-content/uploads/2023/12/Guided-tour.png
ORGANIZER;CN="Menopause Friendly Membership":MAILTO:membersupport@henpicked.net
END:VEVENT
BEGIN:VEVENT
DTSTART;TZID=Europe/London:20260114T110000
DTEND;TZID=Europe/London:20260114T120000
DTSTAMP:20260421T063956
CREATED:20251202T191952Z
LAST-MODIFIED:20251202T191952Z
UID:36177-1768388400-1768392000@membership.henpicked.net
SUMMARY:Menopause Friendly Guided Tour
DESCRIPTION:Please login to access this content.
URL:https://membership.henpicked.net/event/menopause-friendly-guided-tour-24/
LOCATION:Online\, United Kingdom
CATEGORIES:Menopause Friendly Welcome tour
ATTACH;FMTTYPE=image/png:https://membership.henpicked.net/wp-content/uploads/2023/12/Guided-tour.png
ORGANIZER;CN="Menopause Friendly Membership":MAILTO:membersupport@henpicked.net
END:VEVENT
BEGIN:VEVENT
DTSTART;TZID=Europe/London:20251202T120000
DTEND;TZID=Europe/London:20251202T130000
DTSTAMP:20260421T063956
CREATED:20250210T153458Z
LAST-MODIFIED:20250625T140148Z
UID:31861-1764676800-1764680400@membership.henpicked.net
SUMMARY:Menopause Friendly Guided Tour
DESCRIPTION:Please login to access this content.
URL:https://membership.henpicked.net/event/menopause-friendly-guided-tour-23/
LOCATION:Online\, United Kingdom
CATEGORIES:Menopause Friendly Welcome tour
ATTACH;FMTTYPE=image/png:https://membership.henpicked.net/wp-content/uploads/2023/12/Guided-tour.png
END:VEVENT
BEGIN:VEVENT
DTSTART;TZID=Europe/London:20251106T100000
DTEND;TZID=Europe/London:20251106T110000
DTSTAMP:20260421T063956
CREATED:20250210T153047Z
LAST-MODIFIED:20250625T140623Z
UID:31859-1762423200-1762426800@membership.henpicked.net
SUMMARY:Menopause Friendly Guided Tour
DESCRIPTION:Please login to access this content.
URL:https://membership.henpicked.net/event/menopause-friendly-guided-tour-22/
LOCATION:Online\, United Kingdom
CATEGORIES:Menopause Friendly Welcome tour
ATTACH;FMTTYPE=image/png:https://membership.henpicked.net/wp-content/uploads/2023/12/Guided-tour.png
END:VEVENT
BEGIN:VEVENT
DTSTART;TZID=Europe/London:20251007T100000
DTEND;TZID=Europe/London:20251007T110000
DTSTAMP:20260421T063956
CREATED:20250210T152810Z
LAST-MODIFIED:20250625T140437Z
UID:31857-1759831200-1759834800@membership.henpicked.net
SUMMARY:Menopause Friendly Guided Tour
DESCRIPTION:Please login to access this content.
URL:https://membership.henpicked.net/event/menopause-friendly-guided-tour-21/
LOCATION:Online\, United Kingdom
CATEGORIES:Menopause Friendly Welcome tour
ATTACH;FMTTYPE=image/png:https://membership.henpicked.net/wp-content/uploads/2023/12/Guided-tour.png
END:VEVENT
BEGIN:VEVENT
DTSTART;TZID=Europe/London:20250904T110000
DTEND;TZID=Europe/London:20250904T120000
DTSTAMP:20260421T063956
CREATED:20250210T152515Z
LAST-MODIFIED:20250625T134620Z
UID:31855-1756983600-1756987200@membership.henpicked.net
SUMMARY:Menopause Friendly Guided Tour
DESCRIPTION:Please login to access this content.
URL:https://membership.henpicked.net/event/menopause-friendly-guided-tour-20/
LOCATION:Online\, United Kingdom
CATEGORIES:Menopause Friendly Welcome tour
ATTACH;FMTTYPE=image/png:https://membership.henpicked.net/wp-content/uploads/2023/12/Guided-tour.png
END:VEVENT
BEGIN:VEVENT
DTSTART;TZID=Europe/London:20250805T110000
DTEND;TZID=Europe/London:20250805T120000
DTSTAMP:20260421T063956
CREATED:20250210T152207Z
LAST-MODIFIED:20250722T150624Z
UID:31853-1754391600-1754395200@membership.henpicked.net
SUMMARY:Menopause Friendly Guided Tour
DESCRIPTION:Please login to access this content.
URL:https://membership.henpicked.net/event/menopause-friendly-guided-tour-19/
LOCATION:Online\, United Kingdom
CATEGORIES:Menopause Friendly Welcome tour
ATTACH;FMTTYPE=image/png:https://membership.henpicked.net/wp-content/uploads/2023/12/Guided-tour.png
END:VEVENT
BEGIN:VEVENT
DTSTART;TZID=Europe/London:20250703T110000
DTEND;TZID=Europe/London:20250703T120000
DTSTAMP:20260421T063956
CREATED:20250206T145309Z
LAST-MODIFIED:20250206T145309Z
UID:31791-1751540400-1751544000@membership.henpicked.net
SUMMARY:Menopause Friendly Guided Tour
DESCRIPTION:Please login to access this content.
URL:https://membership.henpicked.net/event/menopause-friendly-guided-tour-18/
LOCATION:Online\, United Kingdom
CATEGORIES:Menopause Friendly Welcome tour
ATTACH;FMTTYPE=image/png:https://membership.henpicked.net/wp-content/uploads/2023/12/Guided-tour.png
END:VEVENT
BEGIN:VEVENT
DTSTART;TZID=Europe/London:20250603T100000
DTEND;TZID=Europe/London:20250603T110000
DTSTAMP:20260421T063956
CREATED:20250206T144600Z
LAST-MODIFIED:20250206T144600Z
UID:31789-1748944800-1748948400@membership.henpicked.net
SUMMARY:Menopause Friendly Guided Tour
DESCRIPTION:Please login to access this content.
URL:https://membership.henpicked.net/event/menopause-friendly-guided-tour-17/
LOCATION:Online\, United Kingdom
CATEGORIES:Menopause Friendly Welcome tour
ATTACH;FMTTYPE=image/png:https://membership.henpicked.net/wp-content/uploads/2023/12/Guided-tour.png
END:VEVENT
BEGIN:VEVENT
DTSTART;TZID=Europe/London:20250506T100000
DTEND;TZID=Europe/London:20250506T110000
DTSTAMP:20260421T063956
CREATED:20250206T143949Z
LAST-MODIFIED:20250206T143949Z
UID:31787-1746525600-1746529200@membership.henpicked.net
SUMMARY:Menopause Friendly Guided Tour
DESCRIPTION:Please login to access this content.
URL:https://membership.henpicked.net/event/menopause-friendly-guided-tour-16/
LOCATION:Online\, United Kingdom
CATEGORIES:Menopause Friendly Welcome tour
ATTACH;FMTTYPE=image/png:https://membership.henpicked.net/wp-content/uploads/2023/12/Guided-tour.png
END:VEVENT
BEGIN:VEVENT
DTSTART;TZID=Europe/London:20250403T110000
DTEND;TZID=Europe/London:20250403T120000
DTSTAMP:20260421T063956
CREATED:20250206T142831Z
LAST-MODIFIED:20250206T142831Z
UID:31784-1743678000-1743681600@membership.henpicked.net
SUMMARY:Menopause Friendly Guided Tour
DESCRIPTION:Please login to access this content.
URL:https://membership.henpicked.net/event/menopause-friendly-guided-tour-15/
LOCATION:Online\, United Kingdom
CATEGORIES:Menopause Friendly Welcome tour
ATTACH;FMTTYPE=image/png:https://membership.henpicked.net/wp-content/uploads/2023/12/Guided-tour.png
END:VEVENT
BEGIN:VEVENT
DTSTART;TZID=Europe/London:20250305T140000
DTEND;TZID=Europe/London:20250305T150000
DTSTAMP:20260421T063956
CREATED:20241129T121413Z
LAST-MODIFIED:20250303T163621Z
UID:30611-1741183200-1741186800@membership.henpicked.net
SUMMARY:Menopause Friendly Guided Tour
DESCRIPTION:Please login to access this content.
URL:https://membership.henpicked.net/event/menopause-friendly-guided-tour-14/
LOCATION:Online\, United Kingdom
CATEGORIES:Menopause Friendly Welcome tour
ATTACH;FMTTYPE=image/png:https://membership.henpicked.net/wp-content/uploads/2023/12/Guided-tour.png
END:VEVENT
BEGIN:VEVENT
DTSTART;TZID=Europe/London:20250204T110000
DTEND;TZID=Europe/London:20250204T120000
DTSTAMP:20260421T063956
CREATED:20241129T121132Z
LAST-MODIFIED:20241129T121132Z
UID:30609-1738666800-1738670400@membership.henpicked.net
SUMMARY:Menopause Friendly Guided Tour
DESCRIPTION:Please login to access this content.
URL:https://membership.henpicked.net/event/menopause-friendly-guided-tour-13/
LOCATION:Online\, United Kingdom
CATEGORIES:Menopause Friendly Welcome tour
ATTACH;FMTTYPE=image/png:https://membership.henpicked.net/wp-content/uploads/2023/12/Guided-tour.png
END:VEVENT
BEGIN:VEVENT
DTSTART;TZID=Europe/London:20250109T100000
DTEND;TZID=Europe/London:20250109T110000
DTSTAMP:20260421T063956
CREATED:20241129T120830Z
LAST-MODIFIED:20241129T120830Z
UID:30607-1736416800-1736420400@membership.henpicked.net
SUMMARY:Menopause Friendly Guided Tour
DESCRIPTION:Please login to access this content.
URL:https://membership.henpicked.net/event/menopause-friendly-guided-tour-12/
LOCATION:Online\, United Kingdom
CATEGORIES:Menopause Friendly Welcome tour
ATTACH;FMTTYPE=image/png:https://membership.henpicked.net/wp-content/uploads/2023/12/Guided-tour.png
END:VEVENT
BEGIN:VEVENT
DTSTART;TZID=Europe/London:20241205T100000
DTEND;TZID=Europe/London:20241205T110000
DTSTAMP:20260421T063956
CREATED:20240604T101218Z
LAST-MODIFIED:20240604T101218Z
UID:29032-1733392800-1733396400@membership.henpicked.net
SUMMARY:Menopause Friendly Guided Tour
DESCRIPTION:Please login to access this content.
URL:https://membership.henpicked.net/event/menopause-friendly-guided-tour-11/
LOCATION:Online\, United Kingdom
CATEGORIES:Menopause Friendly Welcome tour
ATTACH;FMTTYPE=image/png:https://membership.henpicked.net/wp-content/uploads/2023/12/Guided-tour.png
END:VEVENT
BEGIN:VEVENT
DTSTART;TZID=Europe/London:20241105T110000
DTEND;TZID=Europe/London:20241105T120000
DTSTAMP:20260421T063956
CREATED:20240604T094544Z
LAST-MODIFIED:20240604T094544Z
UID:29031-1730804400-1730808000@membership.henpicked.net
SUMMARY:Menopause Friendly Guided Tour
DESCRIPTION:Please login to access this content.
URL:https://membership.henpicked.net/event/menopause-friendly-guided-tour-10/
LOCATION:Online\, United Kingdom
CATEGORIES:Menopause Friendly Welcome tour
ATTACH;FMTTYPE=image/png:https://membership.henpicked.net/wp-content/uploads/2023/12/Guided-tour.png
ORGANIZER;CN="Menopause Friendly Membership":MAILTO:membersupport@henpicked.net
END:VEVENT
BEGIN:VEVENT
DTSTART;TZID=Europe/London:20241009T140000
DTEND;TZID=Europe/London:20241009T150000
DTSTAMP:20260421T063956
CREATED:20240604T093400Z
LAST-MODIFIED:20241001T094350Z
UID:29030-1728482400-1728486000@membership.henpicked.net
SUMMARY:Menopause Friendly Guided Tour
DESCRIPTION:Please login to access this content.
URL:https://membership.henpicked.net/event/menopause-friendly-guided-tour-9/
LOCATION:Online\, United Kingdom
CATEGORIES:Menopause Friendly Welcome tour
ATTACH;FMTTYPE=image/png:https://membership.henpicked.net/wp-content/uploads/2023/12/Guided-tour.png
END:VEVENT
BEGIN:VEVENT
DTSTART;TZID=Europe/London:20240905T100000
DTEND;TZID=Europe/London:20240905T110000
DTSTAMP:20260421T063956
CREATED:20240604T093023Z
LAST-MODIFIED:20240604T093023Z
UID:29029-1725530400-1725534000@membership.henpicked.net
SUMMARY:Menopause Friendly Guided Tour
DESCRIPTION:Please login to access this content.
URL:https://membership.henpicked.net/event/menopause-friendly-guided-tour-8/
LOCATION:Online\, United Kingdom
CATEGORIES:Menopause Friendly Welcome tour
ATTACH;FMTTYPE=image/png:https://membership.henpicked.net/wp-content/uploads/2023/12/Guided-tour.png
END:VEVENT
BEGIN:VEVENT
DTSTART;TZID=Europe/London:20240806T110000
DTEND;TZID=Europe/London:20240806T120000
DTSTAMP:20260421T063956
CREATED:20240603T225733Z
LAST-MODIFIED:20240725T202920Z
UID:29028-1722942000-1722945600@membership.henpicked.net
SUMMARY:Menopause Friendly Guided Tour
DESCRIPTION:Please login to access this content.
URL:https://membership.henpicked.net/event/menopause-friendly-guided-tour-7/
LOCATION:Online\, United Kingdom
CATEGORIES:Menopause Friendly Welcome tour
ATTACH;FMTTYPE=image/png:https://membership.henpicked.net/wp-content/uploads/2023/12/Guided-tour.png
ORGANIZER;CN="Menopause Friendly Membership":MAILTO:membersupport@henpicked.net
END:VEVENT
BEGIN:VEVENT
DTSTART;TZID=Europe/London:20240703T140000
DTEND;TZID=Europe/London:20240703T150000
DTSTAMP:20260421T063956
CREATED:20240603T224954Z
LAST-MODIFIED:20240603T224954Z
UID:29026-1720015200-1720018800@membership.henpicked.net
SUMMARY:Menopause Friendly Guided Tour
DESCRIPTION:Please login to access this content.
URL:https://membership.henpicked.net/event/menopause-friendly-guided-tour-6/
LOCATION:Online\, United Kingdom
CATEGORIES:Menopause Friendly Welcome tour
ATTACH;FMTTYPE=image/png:https://membership.henpicked.net/wp-content/uploads/2023/12/Guided-tour.png
END:VEVENT
BEGIN:VEVENT
DTSTART;TZID=Europe/London:20240606T100000
DTEND;TZID=Europe/London:20240606T110000
DTSTAMP:20260421T063956
CREATED:20240304T213607Z
LAST-MODIFIED:20240304T213607Z
UID:28034-1717668000-1717671600@membership.henpicked.net
SUMMARY:Menopause Friendly Guided Tour
DESCRIPTION:Please login to access this content.
URL:https://membership.henpicked.net/event/menopause-friendly-guided-tour-5/
LOCATION:Online\, United Kingdom
CATEGORIES:Menopause Friendly Welcome tour
ATTACH;FMTTYPE=image/png:https://membership.henpicked.net/wp-content/uploads/2023/12/Guided-tour.png
END:VEVENT
BEGIN:VEVENT
DTSTART;TZID=Europe/London:20240514T110000
DTEND;TZID=Europe/London:20240514T120000
DTSTAMP:20260421T063956
CREATED:20240304T213230Z
LAST-MODIFIED:20240304T213230Z
UID:28032-1715684400-1715688000@membership.henpicked.net
SUMMARY:Menopause Friendly Guided Tour
DESCRIPTION:Please login to access this content.
URL:https://membership.henpicked.net/event/menopause-friendly-guided-tour-4/
LOCATION:Online\, United Kingdom
CATEGORIES:Menopause Friendly Welcome tour
ATTACH;FMTTYPE=image/png:https://membership.henpicked.net/wp-content/uploads/2023/12/Guided-tour.png
END:VEVENT
BEGIN:VEVENT
DTSTART;TZID=Europe/London:20240410T100000
DTEND;TZID=Europe/London:20240410T110000
DTSTAMP:20260421T063956
CREATED:20240304T212743Z
LAST-MODIFIED:20240304T212743Z
UID:28029-1712743200-1712746800@membership.henpicked.net
SUMMARY:Menopause Friendly Guided Tour
DESCRIPTION:Please login to access this content.
URL:https://membership.henpicked.net/event/menopause-friendly-guided-tour-3/
LOCATION:Online\, United Kingdom
CATEGORIES:Menopause Friendly Welcome tour
ATTACH;FMTTYPE=image/png:https://membership.henpicked.net/wp-content/uploads/2023/12/Guided-tour.png
END:VEVENT
BEGIN:VEVENT
DTSTART;TZID=Europe/London:20240305T110000
DTEND;TZID=Europe/London:20240305T120000
DTSTAMP:20260421T063956
CREATED:20240115T234310Z
LAST-MODIFIED:20240229T223908Z
UID:26349-1709636400-1709640000@membership.henpicked.net
SUMMARY:Menopause Friendly Guided Tour
DESCRIPTION:Please login to access this content.
URL:https://membership.henpicked.net/event/menopause-friendly-guided-tour-2/
LOCATION:Online\, United Kingdom
CATEGORIES:Menopause Friendly Welcome tour
ATTACH;FMTTYPE=image/png:https://membership.henpicked.net/wp-content/uploads/2023/12/Guided-tour.png
END:VEVENT
BEGIN:VEVENT
DTSTART;TZID=Europe/London:20240201T110000
DTEND;TZID=Europe/London:20240201T120000
DTSTAMP:20260421T063956
CREATED:20240115T233824Z
LAST-MODIFIED:20240115T234348Z
UID:26347-1706785200-1706788800@membership.henpicked.net
SUMMARY:Menopause Friendly Guided Tour
DESCRIPTION:Please login to access this content.
URL:https://membership.henpicked.net/event/menopause-friendly-guided-tour/
LOCATION:Online\, United Kingdom
CATEGORIES:Menopause Friendly Welcome tour
ATTACH;FMTTYPE=image/png:https://membership.henpicked.net/wp-content/uploads/2023/12/Guided-tour.png
END:VEVENT
BEGIN:VEVENT
DTSTART;TZID=Europe/London:20240115T120000
DTEND;TZID=Europe/London:20240115T130000
DTSTAMP:20260421T063956
CREATED:20231228T114152Z
LAST-MODIFIED:20231228T114425Z
UID:25491-1705320000-1705323600@membership.henpicked.net
SUMMARY:Menopause Friendly Guided Tour: First look at the new membership site!
DESCRIPTION:Please login to access this content.
URL:https://membership.henpicked.net/event/menopause-friendly-guided-tour-first-look-at-the-new-membership-site/
CATEGORIES:Menopause Friendly Welcome tour
ATTACH;FMTTYPE=image/png:https://membership.henpicked.net/wp-content/uploads/2023/12/Guided-tour.png
ORGANIZER;CN="Menopause Friendly Membership":MAILTO:membersupport@henpicked.net
LOCATION:https://events.teams.microsoft.com/event/a500e37d-954f-432e-ad64-8fd6485fae3b@aaf41ac9-209c-4031-85b3-d85242d882d2
END:VEVENT
END:VCALENDAR