BEGIN:VCALENDAR
VERSION:2.0
PRODID:-//Henpicked Workplace Memberships - ECPv6.15.20//NONSGML v1.0//EN
CALSCALE:GREGORIAN
METHOD:PUBLISH
X-WR-CALNAME:Henpicked Workplace Memberships
X-ORIGINAL-URL:https://membership.henpicked.net
X-WR-CALDESC:Events for Henpicked Workplace Memberships
REFRESH-INTERVAL;VALUE=DURATION:PT1H
X-Robots-Tag:noindex
X-PUBLISHED-TTL:PT1H
BEGIN:VTIMEZONE
TZID:Europe/London
BEGIN:DAYLIGHT
TZOFFSETFROM:+0000
TZOFFSETTO:+0100
TZNAME:BST
DTSTART:20250330T010000
END:DAYLIGHT
BEGIN:STANDARD
TZOFFSETFROM:+0100
TZOFFSETTO:+0000
TZNAME:GMT
DTSTART:20251026T010000
END:STANDARD
BEGIN:DAYLIGHT
TZOFFSETFROM:+0000
TZOFFSETTO:+0100
TZNAME:BST
DTSTART:20260329T010000
END:DAYLIGHT
BEGIN:STANDARD
TZOFFSETFROM:+0100
TZOFFSETTO:+0000
TZNAME:GMT
DTSTART:20261025T010000
END:STANDARD
BEGIN:DAYLIGHT
TZOFFSETFROM:+0000
TZOFFSETTO:+0100
TZNAME:BST
DTSTART:20270328T010000
END:DAYLIGHT
BEGIN:STANDARD
TZOFFSETFROM:+0100
TZOFFSETTO:+0000
TZNAME:GMT
DTSTART:20271031T010000
END:STANDARD
END:VTIMEZONE
BEGIN:VEVENT
DTSTART;TZID=Europe/London:20261119T120000
DTEND;TZID=Europe/London:20261119T130000
DTSTAMP:20260422T202004
CREATED:20251208T191029Z
LAST-MODIFIED:20251208T191029Z
UID:36251-1795089600-1795093200@membership.henpicked.net
SUMMARY:Festive Fun
DESCRIPTION:Tinsel at the ready – our much-loved Festive Fun event is back with a mix of laughter\, practical ideas and a sprinkle of sparkle. \nIt’s an hour of wellbeing tips\, laughter and connection\, open to all Menopause & Menstruation Friendly members and their colleagues. \nExpect brilliant guests\, a lively quiz with fantastic prizes and a Festive Fun toolkit packed with ready-to-use materials you can share with your teams. \nWho this is for:\nAll members and their colleagues \nPlease click here to register: \nhttps://events.teams.microsoft.com/event/e384f462-373b-4496-811f-a2f5d2a3082c@aaf41ac9-209c-4031-85b3-d85242d882d2
URL:https://membership.henpicked.net/event/festive-fun/
LOCATION:Online\, United Kingdom
CATEGORIES:Menopause Friendly Drop-in sessions,Menstruation Friendly Drop-in sessions
ATTACH;FMTTYPE=image/png:https://membership.henpicked.net/wp-content/uploads/2025/12/Festive-Fun-2.png
ORGANIZER;CN="Menopause Friendly Membership":MAILTO:membersupport@henpicked.net
END:VEVENT
END:VCALENDAR