BEGIN:VCALENDAR
VERSION:2.0
PRODID:-//Henpicked Workplace Memberships - ECPv6.15.20//NONSGML v1.0//EN
CALSCALE:GREGORIAN
METHOD:PUBLISH
X-WR-CALNAME:Henpicked Workplace Memberships
X-ORIGINAL-URL:https://membership.henpicked.net
X-WR-CALDESC:Events for Henpicked Workplace Memberships
REFRESH-INTERVAL;VALUE=DURATION:PT1H
X-Robots-Tag:noindex
X-PUBLISHED-TTL:PT1H
BEGIN:VTIMEZONE
TZID:Europe/London
BEGIN:DAYLIGHT
TZOFFSETFROM:+0000
TZOFFSETTO:+0100
TZNAME:BST
DTSTART:20240331T010000
END:DAYLIGHT
BEGIN:STANDARD
TZOFFSETFROM:+0100
TZOFFSETTO:+0000
TZNAME:GMT
DTSTART:20241027T010000
END:STANDARD
BEGIN:DAYLIGHT
TZOFFSETFROM:+0000
TZOFFSETTO:+0100
TZNAME:BST
DTSTART:20250330T010000
END:DAYLIGHT
BEGIN:STANDARD
TZOFFSETFROM:+0100
TZOFFSETTO:+0000
TZNAME:GMT
DTSTART:20251026T010000
END:STANDARD
BEGIN:DAYLIGHT
TZOFFSETFROM:+0000
TZOFFSETTO:+0100
TZNAME:BST
DTSTART:20260329T010000
END:DAYLIGHT
BEGIN:STANDARD
TZOFFSETFROM:+0100
TZOFFSETTO:+0000
TZNAME:GMT
DTSTART:20261025T010000
END:STANDARD
END:VTIMEZONE
BEGIN:VEVENT
DTSTART;TZID=Europe/London:20250603T100000
DTEND;TZID=Europe/London:20250603T110000
DTSTAMP:20260422T000403
CREATED:20250206T144600Z
LAST-MODIFIED:20250206T144600Z
UID:31789-1748944800-1748948400@membership.henpicked.net
SUMMARY:Menopause Friendly Guided Tour
DESCRIPTION:Thank you for joining Menopause Friendly Membership. \nOur Independent Panel and supporting expert team from Henpicked: Menopause in the Workplace are passionate about helping you introduce the right menopause awareness\, education and support. \nThis first session is for one hour for us to get to know each other\, and: \n\nUnderstand where you are now and how best to help you.\nGive you a guided tour of what’s available through your membership.\nExplain what the standards are to become an ‘Independently Accredited Menopause Friendly Employer’.\n\nWe’re looking forward to meeting you! \nRegister in advance for this webinar: \nhttps://events.teams.microsoft.com/event/0774a48e-e5d1-4244-ab33-c64a0519179b@aaf41ac9-209c-4031-85b3-d85242d882d2
URL:https://membership.henpicked.net/event/menopause-friendly-guided-tour-17/
LOCATION:Online\, United Kingdom
CATEGORIES:Menopause Friendly Welcome tour
ATTACH;FMTTYPE=image/png:https://membership.henpicked.net/wp-content/uploads/2023/12/Guided-tour.png
END:VEVENT
BEGIN:VEVENT
DTSTART;TZID=Europe/London:20250611T100000
DTEND;TZID=Europe/London:20250611T110000
DTSTAMP:20260422T000403
CREATED:20250206T153640Z
LAST-MODIFIED:20250519T133500Z
UID:31813-1749636000-1749639600@membership.henpicked.net
SUMMARY:Preparing to apply for Menopause Friendly accreditation
DESCRIPTION:As you move along your journey to becoming Menopause Friendly\, how do you prepare for your accreditation application? \nIn this workshop will we cover: \n\nMenopause Friendly accreditation standards\n How to provide evidence\nAdvice on what the Independent Panel are looking for\nExamples of what to include\nThe application process and form\nTimetable and awarding accreditation\nQ&A\n\nRegister for this session by clicking on the link: \nhttps://events.teams.microsoft.com/event/7c958d22-cb3e-46ae-a73a-296e8da14633@aaf41ac9-209c-4031-85b3-d85242d882d2
URL:https://membership.henpicked.net/event/preparing-to-apply-for-menopause-friendly-accreditation-36/
LOCATION:Online\, United Kingdom
CATEGORIES:Menopause Friendly Core workshops
ATTACH;FMTTYPE=image/png:https://membership.henpicked.net/wp-content/uploads/2024/11/CoreWorkshops_Preparingtoapply.png
END:VEVENT
BEGIN:VEVENT
DTSTART;TZID=Europe/London:20250611T120000
DTEND;TZID=Europe/London:20250611T123000
DTSTAMP:20260422T000403
CREATED:20250206T151259Z
LAST-MODIFIED:20250211T144034Z
UID:31801-1749643200-1749645000@membership.henpicked.net
SUMMARY:Member: Drop in session
DESCRIPTION:This is a drop-in session for any members to ask questions to member support about Menopause Friendly membership and accreditation. \nWe want to understand your challenges and how the membership can support you. \nPlease join us for an informal chat and an opportunity to meet other members on the menopause friendly journey. \nRegister for this session by clicking on the link: \nhttps://events.teams.microsoft.com/event/24770171-0fad-4ca7-9dcf-8e7730bc2b4a@aaf41ac9-209c-4031-85b3-d85242d882d2
URL:https://membership.henpicked.net/event/member-drop-in-session-52/
LOCATION:Online\, United Kingdom
CATEGORIES:Menopause Friendly Drop-in sessions
ATTACH;FMTTYPE=image/jpeg:https://membership.henpicked.net/wp-content/uploads/2024/01/DropIn_template.jpg
END:VEVENT
BEGIN:VEVENT
DTSTART;TZID=Europe/London:20250616T120000
DTEND;TZID=Europe/London:20250616T130000
DTSTAMP:20260422T000403
CREATED:20250317T153741Z
LAST-MODIFIED:20250317T153741Z
UID:32737-1750075200-1750078800@membership.henpicked.net
SUMMARY:Masterclass: Andropause and Men's Midlife Health
DESCRIPTION:The conversation around menopause has prompted a conversation around male hormonal health\, in particular the role of testosterone in men’s health and the impact of its decline as people age. \nIn this interactive and informative workshop\, we are joined by men’s health specialist doctor\, Dr Ed Rainbow from the Centre for Men’s Health. This session will cover … \n\nwhy the impact of hormone changes on life and work means it’s time to kickstart this conversation\nthe myths around the ‘male-menopause’ and explain testosterone deficiency syndrome and treatments\nshare the latest thinking on how to prepare for and manage male hormonal health symptoms for personal and professional life\nQ&A exploring key issues people are experiencing\n\nRegister for this session by clicking on the link: \nhttps://events.teams.microsoft.com/event/6bb209ff-5821-4cf0-9d7a-fa8457b49587@aaf41ac9-209c-4031-85b3-d85242d882d2 \n 
URL:https://membership.henpicked.net/event/masterclass-andropause-and-mens-midlife-health/
LOCATION:Online\, United Kingdom
CATEGORIES:Menopause Friendly Specialist masterclasses
ATTACH;FMTTYPE=image/png:https://membership.henpicked.net/wp-content/uploads/2025/03/Masterclass-Andropause.png
END:VEVENT
BEGIN:VEVENT
DTSTART;TZID=Europe/London:20250625T120000
DTEND;TZID=Europe/London:20250625T123000
DTSTAMP:20260422T000403
CREATED:20250206T151527Z
LAST-MODIFIED:20250603T083605Z
UID:31803-1750852800-1750854600@membership.henpicked.net
SUMMARY:Member: Drop in session
DESCRIPTION:This is a drop-in session for any members to ask questions to member support about Menopause Friendly membership and accreditation. \nWe want to understand your challenges and how the membership can support you. \nPlease join us for an informal chat and an opportunity to meet other members on the menopause friendly journey. \nRegister for this session by clicking on the link: \nhttps://events.teams.microsoft.com/event/1c57f6ac-05aa-407c-84b3-42598d5d5a8c@aaf41ac9-209c-4031-85b3-d85242d882d2
URL:https://membership.henpicked.net/event/member-drop-in-session-53/
LOCATION:Online\, United Kingdom
CATEGORIES:Menopause Friendly Drop-in sessions
ATTACH;FMTTYPE=image/jpeg:https://membership.henpicked.net/wp-content/uploads/2024/01/DropIn_template.jpg
END:VEVENT
END:VCALENDAR