BEGIN:VCALENDAR
VERSION:2.0
PRODID:-//Henpicked Workplace Memberships - ECPv6.15.20//NONSGML v1.0//EN
CALSCALE:GREGORIAN
METHOD:PUBLISH
X-ORIGINAL-URL:https://membership.henpicked.net
X-WR-CALDESC:Events for Henpicked Workplace Memberships
REFRESH-INTERVAL;VALUE=DURATION:PT1H
X-Robots-Tag:noindex
X-PUBLISHED-TTL:PT1H
BEGIN:VTIMEZONE
TZID:Europe/London
BEGIN:DAYLIGHT
TZOFFSETFROM:+0000
TZOFFSETTO:+0100
TZNAME:BST
DTSTART:20240331T010000
END:DAYLIGHT
BEGIN:STANDARD
TZOFFSETFROM:+0100
TZOFFSETTO:+0000
TZNAME:GMT
DTSTART:20241027T010000
END:STANDARD
BEGIN:DAYLIGHT
TZOFFSETFROM:+0000
TZOFFSETTO:+0100
TZNAME:BST
DTSTART:20250330T010000
END:DAYLIGHT
BEGIN:STANDARD
TZOFFSETFROM:+0100
TZOFFSETTO:+0000
TZNAME:GMT
DTSTART:20251026T010000
END:STANDARD
BEGIN:DAYLIGHT
TZOFFSETFROM:+0000
TZOFFSETTO:+0100
TZNAME:BST
DTSTART:20260329T010000
END:DAYLIGHT
BEGIN:STANDARD
TZOFFSETFROM:+0100
TZOFFSETTO:+0000
TZNAME:GMT
DTSTART:20261025T010000
END:STANDARD
END:VTIMEZONE
BEGIN:VEVENT
DTSTART;TZID=Europe/London:20250716T130000
DTEND;TZID=Europe/London:20250716T140000
DTSTAMP:20260425T134801
CREATED:20250206T153933Z
LAST-MODIFIED:20250714T105438Z
UID:31815-1752670800-1752674400@membership.henpicked.net
SUMMARY:Preparing to apply for Menopause Friendly accreditation
DESCRIPTION:As you move along your journey to becoming Menopause Friendly\, how do you prepare for your accreditation application? \nIn this workshop will we cover: \n\nMenopause Friendly accreditation standards\n How to provide evidence\nAdvice on what the Independent Panel are looking for\nExamples of what to include\nThe application process and form\nTimetable and awarding accreditation\nQ&A\n\nRegister for this session by clicking on the link: \nhttps://events.teams.microsoft.com/event/356e51eb-aff6-4310-a1ce-2b12f247311e@aaf41ac9-209c-4031-85b3-d85242d882d2
URL:https://membership.henpicked.net/event/preparing-to-apply-for-menopause-friendly-accreditation-37/
LOCATION:Online\, United Kingdom
CATEGORIES:Menopause Friendly Core workshops
ATTACH;FMTTYPE=image/png:https://membership.henpicked.net/wp-content/uploads/2024/11/CoreWorkshops_Preparingtoapply.png
END:VEVENT
END:VCALENDAR