BEGIN:VCALENDAR
VERSION:2.0
PRODID:-//Henpicked Workplace Memberships - ECPv6.15.20//NONSGML v1.0//EN
CALSCALE:GREGORIAN
METHOD:PUBLISH
X-WR-CALNAME:Henpicked Workplace Memberships
X-ORIGINAL-URL:https://membership.henpicked.net
X-WR-CALDESC:Events for Henpicked Workplace Memberships
REFRESH-INTERVAL;VALUE=DURATION:PT1H
X-Robots-Tag:noindex
X-PUBLISHED-TTL:PT1H
BEGIN:VTIMEZONE
TZID:Europe/London
BEGIN:DAYLIGHT
TZOFFSETFROM:+0000
TZOFFSETTO:+0100
TZNAME:BST
DTSTART:20250330T010000
END:DAYLIGHT
BEGIN:STANDARD
TZOFFSETFROM:+0100
TZOFFSETTO:+0000
TZNAME:GMT
DTSTART:20251026T010000
END:STANDARD
BEGIN:DAYLIGHT
TZOFFSETFROM:+0000
TZOFFSETTO:+0100
TZNAME:BST
DTSTART:20260329T010000
END:DAYLIGHT
BEGIN:STANDARD
TZOFFSETFROM:+0100
TZOFFSETTO:+0000
TZNAME:GMT
DTSTART:20261025T010000
END:STANDARD
BEGIN:DAYLIGHT
TZOFFSETFROM:+0000
TZOFFSETTO:+0100
TZNAME:BST
DTSTART:20270328T010000
END:DAYLIGHT
BEGIN:STANDARD
TZOFFSETFROM:+0100
TZOFFSETTO:+0000
TZNAME:GMT
DTSTART:20271031T010000
END:STANDARD
END:VTIMEZONE
BEGIN:VEVENT
DTSTART;TZID=Europe/London:20260210T100000
DTEND;TZID=Europe/London:20260210T110000
DTSTAMP:20260426T033859
CREATED:20251203T093905Z
LAST-MODIFIED:20251203T094751Z
UID:36183-1770717600-1770721200@membership.henpicked.net
SUMMARY:Menopause Friendly Playbook Series: Culture
DESCRIPTION:Part of the Menopause Friendly Playbook Masterclass Series \nThis Masterclass explores how culture forms the foundation of being menopause friendly. \nWe’ll look at how organisations are creating openness through leadership visibility\, supportive networks\, lived experience stories and day-to-day conversation. \nMembers will leave with practical insight they can take back to help strengthen cultural awareness and build confidence across their organisation. \nWho this is for:This event is open to all Menopause Friendly members who are involved in\, or interested in\, building supportive and inclusive conversations at work. It’s ideal for HR\, wellbeing\, DEI and leadership teams\, project leads\, champions\, employee networks\, line managers and any colleagues who want to grow confidence\, understanding and everyday visibility. Whether you’re just getting started or building on activity already underway\, you’ll find ideas\, reassurance and practical next steps to help you move forward. \nClick here to register: \nhttps://events.teams.microsoft.com/event/022ba622-8401-4cb2-8762-9c78d82c76b8@aaf41ac9-209c-4031-85b3-d85242d882d2
URL:https://membership.henpicked.net/event/menopause-friendly-playbook-series-culture/
LOCATION:Online\, United Kingdom
CATEGORIES:Menopause Friendly Masterclass,Menopause Friendly Specialist masterclasses
ATTACH;FMTTYPE=image/png:https://membership.henpicked.net/wp-content/uploads/2025/12/Masterclass_Culture.png
ORGANIZER;CN="Menopause Friendly Membership":MAILTO:membersupport@henpicked.net
END:VEVENT
BEGIN:VEVENT
DTSTART;TZID=Europe/London:20260210T120000
DTEND;TZID=Europe/London:20260210T130000
DTSTAMP:20260426T033859
CREATED:20251202T192224Z
LAST-MODIFIED:20251202T192224Z
UID:36179-1770724800-1770728400@membership.henpicked.net
SUMMARY:Menopause Friendly Guided Tour
DESCRIPTION:Thank you for joining Menopause Friendly Membership. \nOur Independent Panel and supporting expert team from Henpicked: Menopause in the Workplace are passionate about helping you introduce the right menopause awareness\, education and support. \nThis first session is for one hour for us to get to know each other\, and: \n\nUnderstand where you are now and how best to help you.\nGive you a guided tour of what’s available through your membership.\nExplain what the standards are to become an ‘Independently Accredited Menopause Friendly Employer’.\n\nWe’re looking forward to meeting you! \nRegister in advance for this webinar: \nhttps://events.teams.microsoft.com/event/10d1dd8c-0942-4b69-8b9c-91f9d79c9fe3@aaf41ac9-209c-4031-85b3-d85242d882d2
URL:https://membership.henpicked.net/event/menopause-friendly-guided-tour-25/
LOCATION:Online\, United Kingdom
CATEGORIES:Menopause Friendly Welcome tour
ATTACH;FMTTYPE=image/png:https://membership.henpicked.net/wp-content/uploads/2023/12/Guided-tour.png
ORGANIZER;CN="Menopause Friendly Membership":MAILTO:membersupport@henpicked.net
END:VEVENT
END:VCALENDAR