BEGIN:VCALENDAR
VERSION:2.0
PRODID:-//Henpicked Workplace Memberships - ECPv6.15.20//NONSGML v1.0//EN
CALSCALE:GREGORIAN
METHOD:PUBLISH
X-ORIGINAL-URL:https://membership.henpicked.net
X-WR-CALDESC:Events for Henpicked Workplace Memberships
REFRESH-INTERVAL;VALUE=DURATION:PT1H
X-Robots-Tag:noindex
X-PUBLISHED-TTL:PT1H
BEGIN:VTIMEZONE
TZID:Europe/London
BEGIN:DAYLIGHT
TZOFFSETFROM:+0000
TZOFFSETTO:+0100
TZNAME:BST
DTSTART:20250330T010000
END:DAYLIGHT
BEGIN:STANDARD
TZOFFSETFROM:+0100
TZOFFSETTO:+0000
TZNAME:GMT
DTSTART:20251026T010000
END:STANDARD
BEGIN:DAYLIGHT
TZOFFSETFROM:+0000
TZOFFSETTO:+0100
TZNAME:BST
DTSTART:20260329T010000
END:DAYLIGHT
BEGIN:STANDARD
TZOFFSETFROM:+0100
TZOFFSETTO:+0000
TZNAME:GMT
DTSTART:20261025T010000
END:STANDARD
BEGIN:DAYLIGHT
TZOFFSETFROM:+0000
TZOFFSETTO:+0100
TZNAME:BST
DTSTART:20270328T010000
END:DAYLIGHT
BEGIN:STANDARD
TZOFFSETFROM:+0100
TZOFFSETTO:+0000
TZNAME:GMT
DTSTART:20271031T010000
END:STANDARD
END:VTIMEZONE
BEGIN:VEVENT
DTSTART;TZID=Europe/London:20260413T110000
DTEND;TZID=Europe/London:20260413T120000
DTSTAMP:20260424T170044
CREATED:20260218T172036Z
LAST-MODIFIED:20260218T172036Z
UID:37682-1776078000-1776081600@membership.henpicked.net
SUMMARY:Preparing to apply for Menopause Friendly Accreditation
DESCRIPTION:As you move along your journey to becoming Menopause Friendly\, how do you prepare for your accreditation application? \nIn this workshop will we cover: \n\nMenopause Friendly accreditation standards\nHow to provide evidence\nAdvice on what the Independent Panel are looking for\nExamples of what to include\nThe application process and form\nTimetable and awarding accreditation\nQ&A\n\nWe look forward to seeing you at the event! \nhttps://events.teams.microsoft.com/event/e1554928-3f5f-43c2-a725-e500bcbb8461@aaf41ac9-209c-4031-85b3-d85242d882d2
URL:https://membership.henpicked.net/event/preparing-to-apply-for-menopause-friendly-accreditation-46/
LOCATION:Online\, United Kingdom
CATEGORIES:Menopause Friendly Core workshops
ATTACH;FMTTYPE=image/png:https://membership.henpicked.net/wp-content/uploads/2024/11/CoreWorkshops_Preparingtoapply.png
ORGANIZER;CN="Menopause Friendly Membership":MAILTO:membersupport@henpicked.net
END:VEVENT
BEGIN:VEVENT
DTSTART;TZID=Europe/London:20260413T140000
DTEND;TZID=Europe/London:20260413T150000
DTSTAMP:20260424T170044
CREATED:20260218T172840Z
LAST-MODIFIED:20260218T172840Z
UID:37686-1776088800-1776092400@membership.henpicked.net
SUMMARY:Menopause Friendly Membership - Guided Tour
DESCRIPTION:Thank you for joining Menopause Friendly Membership. \nOur Independent Panel and supporting expert team from Henpicked: Menopause in the Workplace are passionate about helping you introduce the right menopause awareness\, education and support. \nThis first session is for one hour for us to get to know each other\, and: \nUnderstand where you are now and how best to help you.\nGive you a guided tour of what’s available through your membership.\nExplain what the standards are to become an ‘Independently Accredited Menopause Friendly Employer’.\nWe’re looking forward to meeting you! \n  \nhttps://events.teams.microsoft.com/event/6b70c0e5-e1de-4c64-bd5f-30de29b9e24f@aaf41ac9-209c-4031-85b3-d85242d882d2
URL:https://membership.henpicked.net/event/menopause-friendly-membership-guided-tour/
LOCATION:Online\, United Kingdom
CATEGORIES:Menopause Friendly Welcome tour
ATTACH;FMTTYPE=image/png:https://membership.henpicked.net/wp-content/uploads/2023/12/Guided-tour.png
ORGANIZER;CN="Menopause Friendly Membership":MAILTO:membersupport@henpicked.net
END:VEVENT
END:VCALENDAR