BEGIN:VCALENDAR
VERSION:2.0
PRODID:-//Henpicked Workplace Memberships - ECPv6.15.20//NONSGML v1.0//EN
CALSCALE:GREGORIAN
METHOD:PUBLISH
X-WR-CALNAME:Henpicked Workplace Memberships
X-ORIGINAL-URL:https://membership.henpicked.net
X-WR-CALDESC:Events for Henpicked Workplace Memberships
REFRESH-INTERVAL;VALUE=DURATION:PT1H
X-Robots-Tag:noindex
X-PUBLISHED-TTL:PT1H
BEGIN:VTIMEZONE
TZID:Europe/London
BEGIN:DAYLIGHT
TZOFFSETFROM:+0000
TZOFFSETTO:+0100
TZNAME:BST
DTSTART:20250330T010000
END:DAYLIGHT
BEGIN:STANDARD
TZOFFSETFROM:+0100
TZOFFSETTO:+0000
TZNAME:GMT
DTSTART:20251026T010000
END:STANDARD
BEGIN:DAYLIGHT
TZOFFSETFROM:+0000
TZOFFSETTO:+0100
TZNAME:BST
DTSTART:20260329T010000
END:DAYLIGHT
BEGIN:STANDARD
TZOFFSETFROM:+0100
TZOFFSETTO:+0000
TZNAME:GMT
DTSTART:20261025T010000
END:STANDARD
BEGIN:DAYLIGHT
TZOFFSETFROM:+0000
TZOFFSETTO:+0100
TZNAME:BST
DTSTART:20270328T010000
END:DAYLIGHT
BEGIN:STANDARD
TZOFFSETFROM:+0100
TZOFFSETTO:+0000
TZNAME:GMT
DTSTART:20271031T010000
END:STANDARD
END:VTIMEZONE
BEGIN:VEVENT
DTSTART;TZID=Europe/London:20260421T140000
DTEND;TZID=Europe/London:20260421T143000
DTSTAMP:20260421T210342
CREATED:20260329T181130Z
LAST-MODIFIED:20260329T181130Z
UID:39375-1776780000-1776781800@membership.henpicked.net
SUMMARY:Menopause Friendly - Member drop in session
DESCRIPTION:This is a drop-in session for any members to ask questions to member support about Menopause Friendly membership and accreditation. \nWe want to understand your challenges and how the membership can support you. \nPlease join us for an informal chat and an opportunity to meet other members on the menstruation friendly journey. \nClick here to register: \nhttps://events.teams.microsoft.com/event/c108037a-e39a-4738-b4b2-609beeb0c715@aaf41ac9-209c-4031-85b3-d85242d882d2
URL:https://membership.henpicked.net/event/menopause-friendly-member-drop-in-session-8/
LOCATION:Online\, United Kingdom
CATEGORIES:Menopause Friendly Drop-in sessions
ATTACH;FMTTYPE=image/jpeg:https://membership.henpicked.net/wp-content/uploads/2024/01/DropIn_template.jpg
ORGANIZER;CN="Menopause Friendly Membership":MAILTO:membersupport@henpicked.net
END:VEVENT
END:VCALENDAR