BEGIN:VCALENDAR
VERSION:2.0
PRODID:-//Henpicked Workplace Memberships - ECPv6.15.20//NONSGML v1.0//EN
CALSCALE:GREGORIAN
METHOD:PUBLISH
X-ORIGINAL-URL:https://membership.henpicked.net
X-WR-CALDESC:Events for Henpicked Workplace Memberships
REFRESH-INTERVAL;VALUE=DURATION:PT1H
X-Robots-Tag:noindex
X-PUBLISHED-TTL:PT1H
BEGIN:VTIMEZONE
TZID:Europe/London
BEGIN:DAYLIGHT
TZOFFSETFROM:+0000
TZOFFSETTO:+0100
TZNAME:BST
DTSTART:20250330T010000
END:DAYLIGHT
BEGIN:STANDARD
TZOFFSETFROM:+0100
TZOFFSETTO:+0000
TZNAME:GMT
DTSTART:20251026T010000
END:STANDARD
BEGIN:DAYLIGHT
TZOFFSETFROM:+0000
TZOFFSETTO:+0100
TZNAME:BST
DTSTART:20260329T010000
END:DAYLIGHT
BEGIN:STANDARD
TZOFFSETFROM:+0100
TZOFFSETTO:+0000
TZNAME:GMT
DTSTART:20261025T010000
END:STANDARD
BEGIN:DAYLIGHT
TZOFFSETFROM:+0000
TZOFFSETTO:+0100
TZNAME:BST
DTSTART:20270328T010000
END:DAYLIGHT
BEGIN:STANDARD
TZOFFSETFROM:+0100
TZOFFSETTO:+0000
TZNAME:GMT
DTSTART:20271031T010000
END:STANDARD
END:VTIMEZONE
BEGIN:VEVENT
DTSTART;TZID=Europe/London:20260420T110000
DTEND;TZID=Europe/London:20260420T120000
DTSTAMP:20260420T141807
CREATED:20260218T170750Z
LAST-MODIFIED:20260218T174810Z
UID:37678-1776682800-1776686400@membership.henpicked.net
SUMMARY:Menstruation Friendly – Preparing to apply for accreditation
DESCRIPTION:As you move along your journey to becoming Menstruation Friendly\, how do you prepare for your accreditation application? \nIn this workshop will we cover: \n\nMenstruation Friendly accreditation standards\nHow to provide evidence\nAdvice on what the Independent Panel are looking for\nExamples of what to include\nThe application process and form\nTimetable and awarding accreditation\nQ&A\n\nhttps://events.teams.microsoft.com/event/d93bf7a3-d887-4ca9-989f-ae9d9907a840@aaf41ac9-209c-4031-85b3-d85242d882d2
URL:https://membership.henpicked.net/event/menstruation-friendly-preparing-to-apply-for-accreditation-25/
LOCATION:Online\, United Kingdom
CATEGORIES:Menstruation Friendly Core Workshops
ATTACH;FMTTYPE=image/jpeg:https://membership.henpicked.net/wp-content/uploads/2024/07/Preparing-to-apply.jpg
END:VEVENT
END:VCALENDAR